BEGIN:VCALENDAR
VERSION:2.0
PRODID:-//eventon.com NONSGML v1.0//EN
CALSCALE:GREGORIAN
METHOD:PUBLISH
BEGIN:VEVENT
UID:69eb0605b6ecd
DTSTAMP:20260424T055621Z
DTSTART:20210707T160000Z
DTEND:20210717T140000Z
LOCATION:Uzdrowisko Kamionek Wielki 66A
SUMMARY:WspÃ³Å‚czesny masaÅ¼ tajski: kurs 10-dniowy z Alfonso Cazenave
DESCRIPTION:Zapraszamy na wyjÄ…tkowy kurs wspÃ³Å‚czesnego masaÅ¼u tajskiego
 Â prowadzony przez Alfonso Cazenave (Karuna Bodywork) i jego ekipÄ™. 10 dni
  peÅ‚nych Å›wiadomego dotyku i Å›wiadomego ruchu; pysznego\,  zdrowego jedz
 enia; oraz skupienia\,  zabawy i relaksacji â€“ to wszystko w miÅ‚ym gronie
  i w bezpoÅ›rednim kontakcie z przyrodÄ… nad Zalewem WiÅ›lanym. SpÄ™dzaj pÃ
 ³Å‚metek wakacji 2021[..]\nhttp://www.uzdrowisko.love/events/wspolczesny-ma
 saz-tajski-kurs-10-dniowy-z-alfonso-cazenave-2/
URL:http://www.uzdrowisko.love/events/wspolczesny-masaz-tajski-kurs-10-dniowy-z-alfonso-cazenave-2/
END:VEVENT
END:VCALENDAR