BEGIN:VCALENDAR
VERSION:2.0
PRODID:-//eventon.com NONSGML v1.0//EN
CALSCALE:GREGORIAN
METHOD:PUBLISH
BEGIN:VEVENT
UID:69eaf32127292
DTSTAMP:20260424T043545Z
DTSTART:20210729T000000Z
DTEND:20210801T000000Z
LOCATION:
SUMMARY:Biodanza z Cristiano Martins - Taniec Archetypów
DESCRIPTION:Zapraszamy na warsztaty biodanzy “Taniec Archetypów”  z C
 ristiano Martins. Biodanza to niezwykła metoda dzięki\,  której możemy 
 poszerzyć swoją świadomość oraz otworzyć szerzej na doświadczanie ż
 ycia. Przez te 4 letnie dni w przepięknym miejscu na łonie natury będzie
 my poprzez taniec biodanzy odkrywać w sobie wojownika / wojowniczkę\,  ko
 chanka / kochankę\,  magika[..]\nhttp://www.uzdrowisko.love/events/biodanz
 a-z-cristiano-martins-taniec-archetypow/
URL:http://www.uzdrowisko.love/events/biodanza-z-cristiano-martins-taniec-archetypow/
END:VEVENT
END:VCALENDAR