BEGIN:VCALENDAR
VERSION:2.0
PRODID:-//eventon.com NONSGML v1.0//EN
CALSCALE:GREGORIAN
METHOD:PUBLISH
BEGIN:VEVENT
UID:69eacbdb0d455
DTSTAMP:20260424T014811Z
DTSTART:20210908T180000Z
DTEND:20210912T150000Z
LOCATION:Uzdrowisko Kamionek Wielki 66A
SUMMARY:- Połączeni - w Rytmach Życia
DESCRIPTION:&#8221; &#8230; Im głębiej poRuszamy się w sobie\,  tym wię
 kszą mamy klarowność i tym bardziej jesteśmy połączeni ze wszystkim\,
   co dzieje się wokół nas &#8230;&#8221; &#8211; Gabrielle Roth Ta uciel
 eśniona podróż to opowieść o wschodzie i zachodzie słońca\,  o narod
 zinach\,  dojrzewaniu i mądrości. To opowieść o przemijaniu\,  nieustan
 nych zmianach. To[..]\nhttp://www.uzdrowisko.love/events/polaczeni-w-rytmac
 h-zycia/
URL:http://www.uzdrowisko.love/events/polaczeni-w-rytmach-zycia/
END:VEVENT
END:VCALENDAR