BEGIN:VCALENDAR
VERSION:2.0
PRODID:-//eventon.com NONSGML v1.0//EN
CALSCALE:GREGORIAN
METHOD:PUBLISH
BEGIN:VEVENT
UID:69eacb5d74f64
DTSTAMP:20260424T014605Z
DTSTART:20210801T160000Z
DTEND:20210807T140000Z
LOCATION:
SUMMARY:Wakacje z jogą od podstaw. Oddech\,  medytacja\,  relaks przy misach i gongach.
DESCRIPTION:Wakacje z jogą od podstaw. Oddech\,  medytacja\,  relaks przy 
 misach i gongach. Wyjazd przeznaczony jest dla osób początkujących\,  z 
 przerwą w praktyce\,  ze problemami z kręgosłupem. To idealne rozwiązan
 ie: – dla wszystkich\,  którzy pod fachowym okiem nauczyciela z doświad
 czeniem\,  Zosi Netter\,  chcą odkryć i pogłębić praktykę jogi – ka
 żdy z[..]\nhttp://www.uzdrowisko.love/events/wakacje-z-joga-od-podstaw-odd
 ech-medytacja-relaks-przy-misach-i-gongach/
URL:http://www.uzdrowisko.love/events/wakacje-z-joga-od-podstaw-oddech-medytacja-relaks-przy-misach-i-gongach/
END:VEVENT
END:VCALENDAR