BEGIN:VCALENDAR
VERSION:2.0
PRODID:-//eventon.com NONSGML v1.0//EN
CALSCALE:GREGORIAN
METHOD:PUBLISH
BEGIN:VEVENT
UID:69eaf39848cdf
DTSTAMP:20260424T043744Z
DTSTART:20211001T160000Z
DTEND:20211003T160000Z
LOCATION:
SUMMARY:Weekend z jogą\,  automasażem twarzy i relaksacją przy dźwiękach mis i gongu
DESCRIPTION:My\,  Zofia i Izabela\,  dwie kobiety oddane swojej pasji\,  za
 praszamy Cię na weekend z jogą\,  automasażem twarzy i releksacją przy 
 dźwiękach mis i gongu (a gong w Uzdrowisku jest NIEZWYKŁY). To idealne r
 ozwiązanie dla: &#8211; każdego\,  kto pod fachowym okiem nauczyciela z k
 ilkunastoletnim doświadczeniem\,  Zosi Netter\,  chce poczuć swoje ciało
 [..]\nhttp://www.uzdrowisko.love/events/weekend-z-joga-automasazem-twarzy-i
 -relaksacja-przy-dzwiekach-mis-i-gongu/
URL:http://www.uzdrowisko.love/events/weekend-z-joga-automasazem-twarzy-i-relaksacja-przy-dzwiekach-mis-i-gongu/
END:VEVENT
END:VCALENDAR