BEGIN:VCALENDAR
VERSION:2.0
PRODID:-//eventon.com NONSGML v1.0//EN
CALSCALE:GREGORIAN
METHOD:PUBLISH
BEGIN:VEVENT
UID:69eb05ffee81b
DTSTAMP:20260424T055615Z
DTSTART:20210916
DTEND:20210917
LOCATION:
SUMMARY:TERAPIA WIELOWYMIAROWA & UZDRAWIANIE POZIOM 1
DESCRIPTION:Wewnętrzny Uzdrowiciel to pierwszy poziom Terapii Wielowymi
 arowej &amp; Uzdrawiania\,  metody terapeutycznej\,  która powstawała pop
 rzez lata mojej praktyki indywidualnej z klientami\,  oraz warsztatowej z g
 rupami istot. Jest to połączenie psychologii głębi\,  uzdrawiania ducho
 wego\,  technik szamańskich\,  oraz wielu innych modalności uzdrawiający
 ch. Przede wszystkim jest to fuzja świadomości zawartej w tych systemach
  wiedzy. Obecnie Terapia Wielowymiarowa nie[..]\nhttp://www.uzdrowisko.love
 /events/terapia-wielowymiarowa-uzdrawianie-poziom-1/
URL:http://www.uzdrowisko.love/events/terapia-wielowymiarowa-uzdrawianie-poziom-1/
END:VEVENT
END:VCALENDAR