BEGIN:VCALENDAR
VERSION:2.0
PRODID:-//eventon.com NONSGML v1.0//EN
CALSCALE:GREGORIAN
METHOD:PUBLISH
BEGIN:VEVENT
UID:69e80dafeece9
DTSTAMP:20260421T235215Z
DTSTART:20220513
DTEND:20220514
LOCATION:
SUMMARY:MÄ™ski KrÄ…g - ObecnoÅ›Ä‡\,  Serce\,  Moc - cykliczny\,  wyjazdowy dla TrÃ³jmiasta i innych okolic Warszawy
DESCRIPTION:JeÅ›li nie krÄ™ci ciÄ™ juÅ¼ pieprzâ€¦nie z kumplami o niczym pr
 zy piwie\,  chipsach i meczu. Jak powiedziaÅ‚ jeden z uczestnikÃ³w MÄ™skieg
 o KrÄ™gu: &#8222;To jest eksploracja Å¼ycia na nowoâ€¦ To jest totalny mind
 fu$k. Z caÅ‚ego Serca polecam.&#8221; Zapraszamy na spotkanie nowego\,  cyk
 licznego\,  weekndowego\,  wyjazdowego KrÄ™gu adresowanego gÅ‚ownie do MÄ™Å
 ¼czyzn z TrÃ³jmiasta[..]\nhttp://www.uzdrowisko.love/events/meski-krag-obec
 nosc-serce-moc-cykliczny-wyjazdowy-dla-trojmiasta-i-innych-okolic-warszawy/
URL:http://www.uzdrowisko.love/events/meski-krag-obecnosc-serce-moc-cykliczny-wyjazdowy-dla-trojmiasta-i-innych-okolic-warszawy/
END:VEVENT
END:VCALENDAR