BEGIN:VCALENDAR
VERSION:2.0
PRODID:-//eventon.com NONSGML v1.0//EN
CALSCALE:GREGORIAN
METHOD:PUBLISH
BEGIN:VEVENT
UID:69e7f66f30626
DTSTAMP:20260421T221303Z
DTSTART:20220522T170000Z
DTEND:20220522T210000Z
LOCATION:
SUMMARY:CEREMONIA KAKAO\,  KĄPIEL W DŹWIĘKACH I BIODANZA.
DESCRIPTION:Podaruj sobie wieczór dla Siebie. Zaczniemy ceremonią kakao. 
 Wypijemy w kręgu ten boski napój pełen składników odżywczych\,  otwie
 rający nasze ciała i serca. Potem zrelaksujemy się przy magicznych dźwi
 ękach mis tybetańskich\,  kryształowych\,  gongu i innych instrumentów.
  Na koniec zatańczymy biodanze. Po tej pięknej podróży zapraszamy na we
 ge przekąski  O Biodanzie: Biodanza[..]\nhttp://www.uzdrowisko.love/event
 s/ceremonia-kakao-kapiel-w-dzwiekach-i-biodanza/
URL:http://www.uzdrowisko.love/events/ceremonia-kakao-kapiel-w-dzwiekach-i-biodanza/
END:VEVENT
END:VCALENDAR