BEGIN:VCALENDAR
VERSION:2.0
PRODID:-//eventon.com NONSGML v1.0//EN
CALSCALE:GREGORIAN
METHOD:PUBLISH
BEGIN:VEVENT
UID:69e7c9739f34d
DTSTAMP:20260421T190107Z
DTSTART:20220727
DTEND:20220728
LOCATION:
SUMMARY:BIODANZA Z CRISTIANO MARTINS. TANIEC ŻYCIA. SEKSUALNOŚĆ I ...
DESCRIPTION:“Niech twoje życie stanie w ogniu. Szukaj ludzi\,  którzy b
 ędą podsycać twoje płomienie.&#8221; [Rumi]. Biodanza oznacza Taniec Ż
 ycia. To taniec serca i wolności rodem z Ameryki Południowej. To system\,
   który integruje muzykę i ruch; umożliwia nawiązanie autentycznej rela
 cji ze sobą\,  z innymi ludźmi oraz z otoczeniem. Tworzy intensywniejszą
  świadomość życia\, [..]\nhttp://www.uzdrowisko.love/events/biodanza-z-
 cristiano-martins-taniec-zycia-seksualnosc-i/
URL:http://www.uzdrowisko.love/events/biodanza-z-cristiano-martins-taniec-zycia-seksualnosc-i/
END:VEVENT
END:VCALENDAR