BEGIN:VCALENDAR
VERSION:2.0
PRODID:-//eventon.com NONSGML v1.0//EN
CALSCALE:GREGORIAN
METHOD:PUBLISH
BEGIN:VEVENT
UID:69e7b73fbd681
DTSTAMP:20260421T174327Z
DTSTART:20220813
DTEND:20220814
LOCATION:
SUMMARY:Joga & Surf â€“ tydzieÅ„ nad Zalewem WiÅ›lanym
DESCRIPTION:JuÅ¼ po raz drugi zapraszamy na magiczny tydzieÅ„ z jogÄ… i nau
 kÄ… surfowania nad Zalewem WiÅ›lanym!Â  Jedziemy na tydzieÅ„ spokoju\,  odd
 echu\,  wygrzania siÄ™ w sÅ‚oÅ„cu i caÅ‚kowitego odpoczynku! A to wszystko 
 z codziennymi sesjami jogi i medytacji\,  praktykami oddechowymi oraz naukÄ
 … wind-surfowania (dla chÄ™tnych)! SpÄ™dzimy tydzieÅ„ w magicznym Uzdrowisk
 u nad[..]\nhttp://www.uzdrowisko.love/events/joga-surf-tydzien-nad-zalewem-
 wislanym/
URL:http://www.uzdrowisko.love/events/joga-surf-tydzien-nad-zalewem-wislanym/
END:VEVENT
END:VCALENDAR