BEGIN:VCALENDAR
VERSION:2.0
PRODID:-//eventon.com NONSGML v1.0//EN
CALSCALE:GREGORIAN
METHOD:PUBLISH
BEGIN:VEVENT
UID:69e7a364b584b
DTSTAMP:20260421T161844Z
DTSTART:20220822
DTEND:20220823
LOCATION:
SUMMARY:POWRÓT DO SIEBIE joga oddech medytacja
DESCRIPTION:Zatrzymanie\,  regeneracja\,  odpoczynek na łonie Mamy Natury 
 z dala od zgiełku miasta. Oddech\,  medytacja\,  odpuszczenie i spotkanie 
 ze Sobą. Taki właśnie będzie nasz sierpniowy wyjazd na Mazury. GDZIE? U
 zdrowisko w Tolkmicku &#8211; wyjątkowe miejsce\,  które powstało by pom
 óc ludziom zatrzymać się na moment i spojrzeć w Siebie. Uzdrowisko to p
 rzede[..]\nhttp://www.uzdrowisko.love/events/powrot-do-siebie-joga-oddech-m
 edytacja/
URL:http://www.uzdrowisko.love/events/powrot-do-siebie-joga-oddech-medytacja/
END:VEVENT
END:VCALENDAR