BEGIN:VCALENDAR
VERSION:2.0
PRODID:-//eventon.com NONSGML v1.0//EN
CALSCALE:GREGORIAN
METHOD:PUBLISH
BEGIN:VEVENT
UID:69e78df70d50a
DTSTAMP:20260421T144719Z
DTSTART:20220706
DTEND:20220707
LOCATION:
SUMMARY:Wakacje rozwojowe z IFS (Internal Family Systems)
DESCRIPTION:Wyjazd warsztatowy z IFS (Internal Family Systems)\,  warsztaty
  autoterapii IFS z elementami empatycznej komunikacji w nurcie Porozumienia
  bez przemocy. To czas dla rozwoju\,  kontaktu ze sobą i swoim wewnętrzny
 m systemem\,  a także nauki empatycznego kontaktu ze sobą i z innymi. Na 
 wyjeździe będzie także czas na relaks\,  odpoczynek\,  przybywanie w[..]
 \nhttp://www.uzdrowisko.love/events/wakacje-rozwojowe-z-ifs-internal-family
 -systems/
URL:http://www.uzdrowisko.love/events/wakacje-rozwojowe-z-ifs-internal-family-systems/
END:VEVENT
END:VCALENDAR