BEGIN:VCALENDAR
VERSION:2.0
PRODID:-//eventon.com NONSGML v1.0//EN
CALSCALE:GREGORIAN
METHOD:PUBLISH
BEGIN:VEVENT
UID:69e765f507933
DTSTAMP:20260421T115637Z
DTSTART:20220711
DTEND:20220712
LOCATION:
SUMMARY:Uzdrowisko dla Kobiet
DESCRIPTION:Wakacyjna\,  Uzdrawiająca Przestrzeń Kobiecej Mocy w Uzdrowis
 ku. Tutaj nie tylko prawdziwie odpoczniesz i naładujesz baterie w naturze\
 ,  w pięknym klimatycznym miejscu. Zadbasz o ciało i umysł oraz równowa
 gę psychofizyczną ruchem\,  oddechem\,  technikami relaksacji\,  artetera
 pią\,  pracą z głosem i warsztatami rozwojowymi. Intencją stworzenia te
 j Przestrzeni Kobiecej Mocy jest ukochanie Siebie\,  głębokie[..]\nhttp:/
 /www.uzdrowisko.love/events/uzdrowisko-dla-kobiet/
URL:http://www.uzdrowisko.love/events/uzdrowisko-dla-kobiet/
END:VEVENT
END:VCALENDAR