BEGIN:VCALENDAR
VERSION:2.0
PRODID:-//eventon.com NONSGML v1.0//EN
CALSCALE:GREGORIAN
METHOD:PUBLISH
BEGIN:VEVENT
UID:69e750d5285d2
DTSTAMP:20260421T102629Z
DTSTART:20220624
DTEND:20220625
LOCATION:
SUMMARY:Letnie przesilenie z jogą nad morzem
DESCRIPTION:Cuda wydarzają się codziennie. Cuda wianki &#8211; tylko raz 
 w roku &#8211; właśnie na przesilenie letnie Zapraszam Cię na gorące ro
 zpoczęcie lata do sielskiej krainy Uzdrowisko Love (niedaleko morze i jezi
 ora) nad Zalew Wiślany. Będziemy jogować\,  pleść wianki\,  szukać kw
 iatu paproci i odpoczywać  Piątek 24.06 16:00 przyjazd 18:00 Joga na[..]
 \nhttp://www.uzdrowisko.love/events/letnie-przesilenie-z-joga-nad-morzem/
URL:http://www.uzdrowisko.love/events/letnie-przesilenie-z-joga-nad-morzem/
END:VEVENT
END:VCALENDAR