BEGIN:VCALENDAR
VERSION:2.0
PRODID:-//eventon.com NONSGML v1.0//EN
CALSCALE:GREGORIAN
METHOD:PUBLISH
BEGIN:VEVENT
UID:69e79c40eb24c
DTSTAMP:20260421T154816Z
DTSTART:20230421T220000Z
DTEND:20230424T020000Z
LOCATION:
SUMMARY:Warsztaty gimnastyki słowiańskiej dla Kobiet
DESCRIPTION:Czujesz\,  że potrzebujesz ruchu\,  ale takiej jego formy\,  k
 tóra uwzględnia potrzeby kobiecego ciała? Aktywności fizycznej\,  któr
 a wspiera twoje zdrowie na poziomie ciała\,  umysłu i ducha w czuły spos
 ób? Praktyki\,  która uwzględnia twój potencjał\,  ale także troszczy
  się o twoje słabe strony? A przy tym\,  Doświadczasz bólu lub dyskomfo
 rtu podczas cyklu[..]\nhttp://www.uzdrowisko.love/events/warsztaty-gimnasty
 ki-slowianskiej-dla-kobiet/
URL:http://www.uzdrowisko.love/events/warsztaty-gimnastyki-slowianskiej-dla-kobiet/
END:VEVENT
END:VCALENDAR