BEGIN:VCALENDAR
VERSION:2.0
PRODID:-//eventon.com NONSGML v1.0//EN
CALSCALE:GREGORIAN
METHOD:PUBLISH
BEGIN:VEVENT
UID:69e788bc56f09
DTSTAMP:20260421T142500Z
DTSTART:20230225T050000Z
DTEND:20230227T010000Z
LOCATION:
SUMMARY:Zimowa regeneracja z jogą i uważnością w lesie
DESCRIPTION:Kameralny warsztat z jogą i mindfulness w lesie to czas poświ
 ęcony przywróceniu wewnętrznej równowagi. Specjalnie przygotowana prakt
 yka składać się będzie zarówno z delikatniejszych jak i bardziej dynam
 icznych sekwencji asan\,  których intensywność i trudność dostosowywan
 a będzie przez nauczyciela do poziomu prowadzonej grupy. W czasie całego 
 weekendu będziesz również odżywiać ciało i[..]\nhttp://www.uzdrowisko
 .love/events/zimowa-regeneracja-z-joga-i-uwaznoscia-w-lesie/
URL:http://www.uzdrowisko.love/events/zimowa-regeneracja-z-joga-i-uwaznoscia-w-lesie/
END:VEVENT
END:VCALENDAR