BEGIN:VCALENDAR
VERSION:2.0
PRODID:-//eventon.com NONSGML v1.0//EN
CALSCALE:GREGORIAN
METHOD:PUBLISH
BEGIN:VEVENT
UID:69e789ef94da2
DTSTAMP:20260421T143007Z
DTSTART:20230303
DTEND:20230304
LOCATION:
SUMMARY:Zmysłowy Dzień Kobiet- weekend z jogą\,  biodanzą i relaksem przy dźwiękach
DESCRIPTION:Kochana Kobieto! Zapraszam Cię na cztery dni bycia bliżej sie
 bie. Bliżej swojego ciała\,  umysłu\,  myśli. Bliżej odczuwania wszyst
 kimi zmysłami. Bliżej innych Kobiet\,  które chcą poruszyć energię do
  działania. &nbsp; Jeśli nic nie zmienisz\,  zmiana się nie dokona. A w 
 grupie łatwiej o inspirację\,  nowe pomysły\,  współrozumienie i wspó
 łodczuwanie. Być może[..]\nhttp://www.uzdrowisko.love/events/zmyslowy-dz
 ien-kobiet-weekend-z-joga-biodanza-i-relaksem-przy-dzwiekach/
URL:http://www.uzdrowisko.love/events/zmyslowy-dzien-kobiet-weekend-z-joga-biodanza-i-relaksem-przy-dzwiekach/
END:VEVENT
END:VCALENDAR