BEGIN:VCALENDAR
VERSION:2.0
PRODID:-//eventon.com NONSGML v1.0//EN
CALSCALE:GREGORIAN
METHOD:PUBLISH
BEGIN:VEVENT
UID:69e7664a00601
DTSTAMP:20260421T115802Z
DTSTART:20230527T010000Z
DTEND:20230529T030000Z
LOCATION:
SUMMARY:Majówka z Jogą\,  Medytacją\,  Relaksem\,  Ajurwedą. Rodzinnie. Słonecznie
DESCRIPTION:Zapraszamy Was Wszystkich Praktykujących i niepraktykujących 
 \,  Rodzinnie i w pojedynkę na Majówkę.. Zapraszamy do odpoczynku\,  odd
 echu\,  relaksu\,  z jogą \,  medytacją \, energią kundalini\,  Wspólni
 e. Zaprasza Lucyna\,  Robert Szkoła Jogi Mandala W cenie wyjazdu są trzy 
 posiłki wegetariańskie/wegańskie dziennie: śniadanie\,  obiad\,  kolacj
 a. plan Majówki : piątek (26 maja) przyjazd od[..]\nhttp://www.uzdrowisko
 .love/events/majowka-z-joga-medytacja-relaksem-ajurweda-rodzinnie-sloneczni
 e/
URL:http://www.uzdrowisko.love/events/majowka-z-joga-medytacja-relaksem-ajurweda-rodzinnie-slonecznie/
END:VEVENT
END:VCALENDAR