BEGIN:VCALENDAR
VERSION:2.0
PRODID:-//eventon.com NONSGML v1.0//EN
CALSCALE:GREGORIAN
METHOD:PUBLISH
BEGIN:VEVENT
UID:69e7899db9527
DTSTAMP:20260421T142845Z
DTSTART:20230722T050000Z
DTEND:20230727T030000Z
LOCATION:
SUMMARY:Biodanza z Cristiano Martins. Taniec Życia. Archetypy miłości.
DESCRIPTION:„W każdym z nas mieszka „Jedność” Początku.” Biodan
 za oznacza Taniec Życia. To taniec serca i wolności rodem z Ameryki Połu
 dniowej. To system\,  który integruje muzykę i ruch; umożliwia nawiązan
 ie autentycznej relacji ze sobą\,  z innymi ludźmi oraz z otoczeniem.Twor
 zy intensywniejszą świadomość życia\,  dzięki uważności i obecnośc
 i w „tu i teraz”.[..]\nhttp://www.uzdrowisko.love/events/biodanza-tanie
 c-zycia-alchemia-4-zywiolow/
URL:http://www.uzdrowisko.love/events/biodanza-taniec-zycia-alchemia-4-zywiolow/
END:VEVENT
END:VCALENDAR