BEGIN:VCALENDAR
VERSION:2.0
PRODID:-//eventon.com NONSGML v1.0//EN
CALSCALE:GREGORIAN
METHOD:PUBLISH
BEGIN:VEVENT
UID:69e79def61f97
DTSTAMP:20260421T155527Z
DTSTART:20230429T020000Z
DTEND:20230504T020000Z
LOCATION:
SUMMARY:MAJÃ“WKA Z JOGÄ„. 6 dni w Dobrostanie
DESCRIPTION:Zapraszam CiÄ™ na szeÅ›Ä‡ dni bycia w dobrostanie. Z jogÄ…\,  o
 ddechem\,  medytacjÄ…\,  leÅ›nym zanurzeniem\,  biodanzÄ… i technologiÄ… sz
 czÄ™Å›liwego Å¼ycia. BliÅ¼ej swojego ciaÅ‚a\,  umysÅ‚u\,  myÅ›li. BliÅ¼ej o
 dczuwania wszystkimi zmysÅ‚ami. BliÅ¼ej innych ludzi\,  ktÃ³rzy takÅ¼e chcÄ
 … poruszyÄ‡ energiÄ™ do dziaÅ‚ania. JeÅ›li nic nie zmienisz\,  zmiana siÄ™ 
 nie dokona. A w grupie Å‚atwiej[..]\nhttp://www.uzdrowisko.love/events/majo
 wka-z-joga-6-dni-w-dobrostanie/
URL:http://www.uzdrowisko.love/events/majowka-z-joga-6-dni-w-dobrostanie/
END:VEVENT
END:VCALENDAR