BEGIN:VCALENDAR
VERSION:2.0
PRODID:-//eventon.com NONSGML v1.0//EN
CALSCALE:GREGORIAN
METHOD:PUBLISH
BEGIN:VEVENT
UID:69ebceb47f8bd
DTSTAMP:20260424T201236Z
DTSTART:20230609T020000Z
DTEND:20230612T010000Z
LOCATION:
SUMMARY:Długi weekend BLIŻEJ SIEBIE. Joga\,  oddech\,  relaks przy dźwiękach mis i gongu.
DESCRIPTION:Zapraszam Cię na cztery dni bycia bliżej siebie. Musisz tylko
  cztery rzeczy: oddychać\,  pić\,  jeść i wydalać. Resztę WYBIERASZ. 
 Ten weekend pozwoli Ci odkryć\,  ugruntować to\,  czego naprawdę potrzeb
 ujesz\,  to\,  co Cię wspiera. Ten weekend pozwoli Ci uświadomić sobie\,
   co Ci nie służy. Ja uwielbiam prowadzić warsztaty\,  bo każdy człowi
 ek\, [..]\nhttp://www.uzdrowisko.love/events/dlugi-weekend-blizej-siebie-jo
 ga-oddech-relaks-przy-dzwiekach-mis-i-gongu/
URL:http://www.uzdrowisko.love/events/dlugi-weekend-blizej-siebie-joga-oddech-relaks-przy-dzwiekach-mis-i-gongu/
END:VEVENT
END:VCALENDAR