BEGIN:VCALENDAR
VERSION:2.0
PRODID:-//eventon.com NONSGML v1.0//EN
CALSCALE:GREGORIAN
METHOD:PUBLISH
BEGIN:VEVENT
UID:69ebbaa126f65
DTSTAMP:20260424T184657Z
DTSTART:20230602T030000Z
DTEND:20230605T030000Z
LOCATION:
SUMMARY:LEJDISKAMP.dzień.dziecka.23
DESCRIPTION:KOCHANE\,  PROSZĘ\,  CZYTAJCIE DOKŁADNIE TREŚĆ LEJDISWYDARZ
 ENIA:) ZWŁASZCZA INFOSY O ZADATKU\,  POKOJACH ITD:) Byłaś już na LEJDIS
 KAMPIE? To doskonale wiesz dlaczego warto. TO.TWÓJ.CZAS. CZAS.MAGICZNY.TW
 RCZY.GŁĘBOKI. Zadbaj o siebie na WIOSNĘ!! Lejdiskamp to klimatyczny\,  
 magiczny\,  kobiecy wyjazd integracyjno rozwojowy\,  pełen dobra\,  ciepł
 a i nieoceniania. Co w programie? przede wszystkim WY! Wasz rozwój\,  wasz
 a[..]\nhttp://www.uzdrowisko.love/events/lejdiskamp-dzien-dziecka-23/
URL:http://www.uzdrowisko.love/events/lejdiskamp-dzien-dziecka-23/
END:VEVENT
END:VCALENDAR