BEGIN:VCALENDAR
VERSION:2.0
PRODID:-//eventon.com NONSGML v1.0//EN
CALSCALE:GREGORIAN
METHOD:PUBLISH
BEGIN:VEVENT
UID:69eba4fb4d59d
DTSTAMP:20260424T171435Z
DTSTART:20230707T020000Z
DTEND:20230710T020000Z
LOCATION:
SUMMARY:Женский йога-ретрит "БАЛАНС ТЕЛА И УМА"
DESCRIPTION:Мы приглашаем тебя с 6 по 9 июля в Uzdr
 owisko Siebie Blisko на женский йога-ретрит &#8222;БА
 АНС ТЕЛА И УМА&#8221; Ретрит &#8211; это путеше
 твие внутрь себя\,  способ через практики
  увидеть свой Путь. Это прекрасная возмож
 ность перезагрузиться\,  сбросить накопи
 шееся напряжение\,  усталость и как следу
 ет зарядиться энергией! Для этого заняти
  йогой и практики[..]\nhttp://www.uzdrowisko.love/events/%d0
 %b6%d0%b5%d0%bd%d1%81%d0%ba%d0%b8%d0%b9-%d0%b9%d0%be%d0%b3%d0%b0-%d1%80%d0%
 b5%d1%82%d1%80%d0%b8%d1%82-%d0%b1%d0%b0%d0%bb%d0%b0%d0%bd%d1%81-%d1%82%d0%b
 5%d0%bb%d0%b0-%d0%b8-%d1%83%d0%bc%d0%b0/
URL:http://www.uzdrowisko.love/events/%d0%b6%d0%b5%d0%bd%d1%81%d0%ba%d0%b8%d0%b9-%d0%b9%d0%be%d0%b3%d0%b0-%d1%80%d0%b5%d1%82%d1%80%d0%b8%d1%82-%d0%b1%d0%b0%d0%bb%d0%b0%d0%bd%d1%81-%d1%82%d0%b5%d0%bb%d0%b0-%d0%b8-%d1%83%d0%bc%d0%b0/
END:VEVENT
END:VCALENDAR