BEGIN:VCALENDAR
VERSION:2.0
PRODID:-//eventon.com NONSGML v1.0//EN
CALSCALE:GREGORIAN
METHOD:PUBLISH
BEGIN:VEVENT
UID:69eb95b9c97a4
DTSTAMP:20260424T160929Z
DTSTART:20230716
DTEND:20230717
LOCATION:
SUMMARY:BŁOGOŚĆ I PRZYJEMNOŚĆ. LETNIE ZASILENIE. TANIEC\,  POWIĘZIOWA YIN JOGA\,  KĄPIEL W DŹWIĘKACH I SPA
DESCRIPTION:16 &#8211; 19 lipca zapraszam na wyjątkowe warsztaty: BŁOGOŚ
 Ć I PRZYJEMNOŚĆ. LETNIE ZASILENIE. TANIEC\,  POWIĘZIOWA YIN JOGA\,  KĄ
 PIEL W DŹWIĘKACH I UZDROWISKOWE SPA. Przedłuż sobie wakacyjny weekend i
  przyjedź do nas by odżywić swoje ciało i ducha. Podczas tych warsztat
 w będziemy praktykować tylko to co przyjemne i karmiące. Od zawsze[..]\
 nhttp://www.uzdrowisko.love/events/blogosc-i-przyjemnosc-letnie-zasilenie-t
 aniec-powieziowa-yin-joga-kapiel-w-dzwiekach-i-spa/
URL:http://www.uzdrowisko.love/events/blogosc-i-przyjemnosc-letnie-zasilenie-taniec-powieziowa-yin-joga-kapiel-w-dzwiekach-i-spa/
END:VEVENT
END:VCALENDAR