BEGIN:VCALENDAR
VERSION:2.0
PRODID:-//eventon.com NONSGML v1.0//EN
CALSCALE:GREGORIAN
METHOD:PUBLISH
BEGIN:VEVENT
UID:69eb854b41173
DTSTAMP:20260424T145923Z
DTSTART:20230710T040000Z
DTEND:20230710T070000Z
LOCATION:
SUMMARY:CEREMONIA KAKAO Z MUZYKĄ NA ŻYWO
DESCRIPTION:Zapraszamy Cię na niezwykłe wydarzenie ! Będzie to połącze
 nie 3 bardzo energetycznych\,  uwalniających\,  wnoszących radość dobro
 ci jak: ceremonia kakao\,  biodanza i muzyka na żywo. Czemu wszystkie te a
 ktywności pięknie się uzupełniają i współgrają ze sobą tworząc ra
 zem TOTALNIE FANTASTYCZNE WYDARZENIE ? ! Ceremonialne kakao doda nam energi
 i\,  otworzy ciało i[..]\nhttp://www.uzdrowisko.love/events/ceremonia-kaka
 o-z-muzyka-na-zywo/
URL:http://www.uzdrowisko.love/events/ceremonia-kakao-z-muzyka-na-zywo/
END:VEVENT
END:VCALENDAR