BEGIN:VCALENDAR
VERSION:2.0
PRODID:-//eventon.com NONSGML v1.0//EN
CALSCALE:GREGORIAN
METHOD:PUBLISH
BEGIN:VEVENT
UID:69eb849871ff3
DTSTAMP:20260424T145624Z
DTSTART:20230817
DTEND:20230818
LOCATION:
SUMMARY:BIODANZOWISKO. LETNIE SPOTKANIA Z BIODANZĄ.
DESCRIPTION:“BIODANZOWISKO”LETNIE SPOTKANIA Z BIODANZĄ Wydarzenie pod 
 patronatem Polskiej Szkoły Biodanzy IBF Systemu Rolando Toro w Warszawie. 
 Sesje Biodanzy poprowadzą polskie facylitatorki w procesie superwizji. Zap
 raszamy Was na pełen radości czas w przepięknym miejscu koło Elbląga 
  Uzdrowisku. Kilka sesji Biodanzy dziennie\,  wiele tematów\,  zajęcia 
 prowadzone przez różne facylitatorki\,  Biodanza w[..]\nhttp://www.uzdrow
 isko.love/events/biodanzowisko-letnie-spotkania-z-biodanza/
URL:http://www.uzdrowisko.love/events/biodanzowisko-letnie-spotkania-z-biodanza/
END:VEVENT
END:VCALENDAR