BEGIN:VCALENDAR
VERSION:2.0
PRODID:-//eventon.com NONSGML v1.0//EN
CALSCALE:GREGORIAN
METHOD:PUBLISH
BEGIN:VEVENT
UID:69ecf98776995
DTSTAMP:20260425T172735Z
DTSTART:20200911T160000Z
DTEND:20200913T170000Z
LOCATION:Uzdrowisko Kamionek Wielki 66A
SUMMARY:Odżywiam Ciało i Duszę: warsztat ze świadomego odżywiania i kuchni energetycznej
DESCRIPTION:✨🌱Odżywiam Ciało i Duszę🌱✨ Warsztat weekendowy ze 
 świadomego odżywiania i kuchni energetycznej. 11-13.09.2020. Dom Uzdrowis
 ko (Kamionek Wielki\,  pod Elblągiem). Z Martą Brzeską i cudnym teamem. 
 🌱Lubisz (lub pragniesz polubić) gotować? 🌱Chcesz poprawić swoją r
 elację z jedzeniem? 🌱Wskoczyć na nowe poziomy kreowania posiłków- w 
 zgodzie z potrzebami ciała\,  rytmami natury i[..]\nhttps://www.uzdrowisko
 .love/events/odzywiam-cialo-i-dusze-warsztat-ze-swiadomego-odzywiania-i-kuc
 hni-energetycznej/
URL:https://www.uzdrowisko.love/events/odzywiam-cialo-i-dusze-warsztat-ze-swiadomego-odzywiania-i-kuchni-energetycznej/
END:VEVENT
END:VCALENDAR