BEGIN:VCALENDAR
VERSION:2.0
PRODID:-//eventon.com NONSGML v1.0//EN
CALSCALE:GREGORIAN
METHOD:PUBLISH
BEGIN:VEVENT
UID:69ed0b4f7bce9
DTSTAMP:20260425T184327Z
DTSTART:20200918T160000Z
DTEND:20200920T160000Z
LOCATION:Uzdrowisko Kamionek Wielki 66A
SUMMARY:Uzdrawiająca Praktyka Uzyskania Wolności
DESCRIPTION:Zapraszam na odosobnienie medytacyjne z: UZDRAWIAJĄCĄ PRAKTYK
 Ą UZYSKANIA WOLNOŚCI poprzez ROZWIĄZYWANIE WEWNĘTRZNYCH KONFLIKTÓW Met
 oda jest znana również jako: CHOD lub KARMIENIE SWOICH DEMONÓW Korzenie 
 tej metody sięgają starożytnej\,  buddyjskiej praktyki uzdrawiającej st
 worzonej w XI w. przez tybetańską jogini Maczig Labron. TERMIN: 18-20 wrz
 eśnia 2020r. MIEJSCE: UZDROWISKO Kamionek Wielki 66 A[..]\nhttps://www.uzd
 rowisko.love/events/uzdrawiajaca-praktyka-uzyskania-wolnosci/
URL:https://www.uzdrowisko.love/events/uzdrawiajaca-praktyka-uzyskania-wolnosci/
END:VEVENT
END:VCALENDAR