BEGIN:VCALENDAR
VERSION:2.0
PRODID:-//eventon.com NONSGML v1.0//EN
CALSCALE:GREGORIAN
METHOD:PUBLISH
BEGIN:VEVENT
UID:69e73bff9befb
DTSTAMP:20260421T085735Z
DTSTART:20210719T170000Z
DTEND:20210725T140000Z
LOCATION:Uzdrowisko Kamionek Wielki 66A
SUMMARY:Zaawansowany Masaż Tajski (kurs 6-dniowy)
DESCRIPTION:Wyjątkowy kurs masażu tajskiego prowadzony przez Alfonso Caze
 nave (Karuna Bodywork) i jego ekipę. Ten kurs jest skierowany do osób maj
 ących za sobą przynajmniej kurs podstawowy masażu tajskiego oraz pewne d
 oświadczenie (wskazane minimum to 50 sesji). Mile widziane również osoby
  praktykujące shiatsu. Po ukończeniu uczestnicy dostają certyfikat. ____
 ____________________________________  𝙋𝙍𝙊𝙂𝙍𝘼𝙈 Z persp
 ektywy[..]\nhttps://www.uzdrowisko.love/events/zaawansowany-masaz-tajski-ku
 rs-6-dniowy-2/
URL:https://www.uzdrowisko.love/events/zaawansowany-masaz-tajski-kurs-6-dniowy-2/
END:VEVENT
END:VCALENDAR