BEGIN:VCALENDAR
VERSION:2.0
PRODID:-//eventon.com NONSGML v1.0//EN
CALSCALE:GREGORIAN
METHOD:PUBLISH
BEGIN:VEVENT
UID:69e72b37d93b7
DTSTAMP:20260421T074559Z
DTSTART:20210903
DTEND:20210904
LOCATION:
SUMMARY:Ajurwedyjskie Boginie
DESCRIPTION:\, \,  Ajurwedyjskie Boginie ‘’ – warsztat dla Kobiet prz
 ygotowany przez Kobiety zakochane w Ajurwedzie. Wykłady\,  warsztaty\,  jo
 ga\,  automasaże\,  medytacje\,  alchemia i taniec. Ajurweda to tradycyjna
  indyjska medycyna naturalna licząca ponad 5 tyś lat.\,  z prawdziwie hol
 istycznym podejściem do człowieka\,  uwzględniającym aspekt fizyczny\, 
  psychiczny i duchowy. Ajurweda objaśnia jak pokarm\,  zioła\, [..]\nhttp
 s://www.uzdrowisko.love/events/ajurwedyjskie-boginie/
URL:https://www.uzdrowisko.love/events/ajurwedyjskie-boginie/
END:VEVENT
END:VCALENDAR