BEGIN:VCALENDAR
VERSION:2.0
PRODID:-//eventon.com NONSGML v1.0//EN
CALSCALE:GREGORIAN
METHOD:PUBLISH
BEGIN:VEVENT
UID:69e73b19e080d
DTSTAMP:20260421T085345Z
DTSTART:20220626
DTEND:20220627
LOCATION:
SUMMARY:LATO W UZDROWISKU - totalny wypoczynek - joga\,  taniec\,  dźwięki
DESCRIPTION:Zapraszamy na błogie wakacje w przepięknym Uzdrowisku w dniac
 h 26.06 &#8211; 3.07. Każdego dnia czeka nas poranna praktyka powięziowej
  yin jogi lub medytacji w tańcu. Wieczorem będziecie mogły/i całkowicie
  się odprężyć podczas koncertów relaksacyjnych w dźwiękach mis tybet
 ańskich\,  kryształowych i gongu. Ponad to czekają nas 3 popołudnia z b
 iodanzą i[..]\nhttps://www.uzdrowisko.love/events/lato-w-uzdrowisku-totaln
 y-wypoczynek-joga-taniec-dzwieki/
URL:https://www.uzdrowisko.love/events/lato-w-uzdrowisku-totalny-wypoczynek-joga-taniec-dzwieki/
END:VEVENT
END:VCALENDAR