BEGIN:VCALENDAR
VERSION:2.0
PRODID:-//eventon.com NONSGML v1.0//EN
CALSCALE:GREGORIAN
METHOD:PUBLISH
BEGIN:VEVENT
UID:69e73e35b5252
DTSTAMP:20260421T090701Z
DTSTART:20220917T030000Z
DTEND:20220919T020000Z
LOCATION:
SUMMARY:Joga na koniec lata
DESCRIPTION:Jogowaga @Małgorzata Olewniak i @Alicja Kozubska zapraszają n
 a wyjazdowy\,  wrześniowy warsztat na pożegnanie lata w Tolkmicku nad Zal
 ewem Wiślanym! Ugości nas @Anna Kotecka w przepięknym miejscu @Uzdrowisk
 o. Kiedy? 16-18.09.2022 Gdzie? @Uzdrowisko www.uzdrowisko.love Cena: 1050 
 zł Dla uczestników poprzednich warsztatów 50 zł taniej. Czego możesz s
 ię spodziewać? &#8211; joga metodą Iyengara &#8211;[..]\nhttps://www.uzd
 rowisko.love/events/joga-na-koniec-lata/
URL:https://www.uzdrowisko.love/events/joga-na-koniec-lata/
END:VEVENT
END:VCALENDAR