BEGIN:VCALENDAR
VERSION:2.0
PRODID:-//eventon.com NONSGML v1.0//EN
CALSCALE:GREGORIAN
METHOD:PUBLISH
BEGIN:VEVENT
UID:69e6a35680fc6
DTSTAMP:20260420T220614Z
DTSTART:20221125
DTEND:20221126
LOCATION:
SUMMARY:Tantryczny warsztat TaoBody 2
DESCRIPTION:TaoBody level 2 Fire od przyjemnoÅ›ci ciaÅ‚a fizycznego do przy
 jemnoÅ›ci ciaÅ‚a energetycznego BÄ™dzie to spotkanie z wewnÄ™trznym ogniem 
 i naturalnÄ… dzikoÅ›ciÄ… zapisanÄ… w Twoim DNA. Spotkanie z wÅ‚asnÄ… energi
 a oraz energiÄ… innych w tantrycznej Å›wiÄ…tynnej przestrzeni odbÄ™dzie siÄ
 ™ w weekend 25-27 listopada w Uzdrowisko Love Kamionek Wielki 66A. Super Ea
 rly[..]\nhttps://www.uzdrowisko.love/events/tantryczny-warsztat-taobody-2/
URL:https://www.uzdrowisko.love/events/tantryczny-warsztat-taobody-2/
END:VEVENT
END:VCALENDAR