BEGIN:VCALENDAR
VERSION:2.0
PRODID:-//eventon.com NONSGML v1.0//EN
CALSCALE:GREGORIAN
METHOD:PUBLISH
BEGIN:VEVENT
UID:69e68f0d7f139
DTSTAMP:20260420T203941Z
DTSTART:20221015
DTEND:20221016
LOCATION:
SUMMARY:Magiczna sobota w Uzdrowisku. Kakao\,  biodanza\,  dÅºwiÄ™ki...
DESCRIPTION:Zapraszamy na magicznÄ… sobotÄ™ w Uzdrowisku. Zaczniemy ceremon
 iÄ… kakao. Wypijemy w krÄ™gu ten boski napÃ³j peÅ‚en skÅ‚adnikÃ³w odÅ¼ywczy
 ch\,  otwierajÄ…cy nasze ciaÅ‚a i serca. Potem zrelaksujemy siÄ™ przy magic
 znych dÅºwiÄ™kach mis tybetaÅ„skich\,  krysztaÅ‚owych\,  gongu i innych ins
 trumentÃ³w. NastÄ™pnie zataÅ„czymy biodanze\,  taniec Å¼ycia. Ta metoda piÄ
 ™knie otwiera serce\,  sprowadza do ciaÅ‚a i[..]\nhttps://www.uzdrowisko.lo
 ve/events/harmonijne-relacje-warsztaty-tworzenia-dobrych-relacji-zwiazkowyc
 h/
URL:https://www.uzdrowisko.love/events/harmonijne-relacje-warsztaty-tworzenia-dobrych-relacji-zwiazkowych/
END:VEVENT
END:VCALENDAR