BEGIN:VCALENDAR
VERSION:2.0
PRODID:-//eventon.com NONSGML v1.0//EN
CALSCALE:GREGORIAN
METHOD:PUBLISH
BEGIN:VEVENT
UID:69e67c52032f3
DTSTAMP:20260420T191946Z
DTSTART:20221104
DTEND:20221105
LOCATION:
SUMMARY:SOULriders tylko dla duszy\,  tylko dla kobiet
DESCRIPTION:HOLISTIC WEEKEND TERMIN 4-6.11.2022 r. Uzdrowisko Siebie Blisko
 \,  Kamionek Wielki https://www.uzdrowisko.love/ KOSZT: 1250 zł Cena obejm
 uje: 2 noclegi z wyżywieniem wegetariańskim lub wegańskim 3 posiłki (ś
 niadanie\,  obiad\,  kolacja)\,  kawa\,  herbata Warsztaty z pielęgnacyjne
  skóry twarzy z Make Your Skin Better holistyczne podejście do pielegnacj
 i rytuał pielęgnacyjny z aplikacją produktów automasaż[..]\nhttps://ww
 w.uzdrowisko.love/events/soulriders-tylko-dla-duszy-tylko-dla-kobiet/
URL:https://www.uzdrowisko.love/events/soulriders-tylko-dla-duszy-tylko-dla-kobiet/
END:VEVENT
END:VCALENDAR