BEGIN:VCALENDAR
VERSION:2.0
PRODID:-//eventon.com NONSGML v1.0//EN
CALSCALE:GREGORIAN
METHOD:PUBLISH
BEGIN:VEVENT
UID:69e668eb8465e
DTSTAMP:20260420T175659Z
DTSTART:20221021
DTEND:20221022
LOCATION:
SUMMARY:JOGA&PILATES: HARMONIA CIAŁA I UMYSŁU – warsztat wyjazdowy z Moniką i Anią
DESCRIPTION:Zapraszamy Cię na weekend dedykowany świadomej pracy z Twoim 
 ciałem i umysłem\,  aby osiągnąć pełną harmonię. Dynamika pilatesu 
 oraz spokój i równowaga jogi pozwolą Ci przywrócić balans\,  zarówno 
 w obszarze wyciszenia\,  jak i energii. Znajdziemy się pomiędzy działani
 em i bezruchem\,  aktywnością i regeneracją\,  dynamiką i odpuszczeniem
 : pomiędzy jogą i pilatesem.[..]\nhttps://www.uzdrowisko.love/events/joga
 pilates-harmonia-ciala-i-umyslu-warsztat-wyjazdowy-z-monika-i-ania/
URL:https://www.uzdrowisko.love/events/jogapilates-harmonia-ciala-i-umyslu-warsztat-wyjazdowy-z-monika-i-ania/
END:VEVENT
END:VCALENDAR