BEGIN:VCALENDAR
VERSION:2.0
PRODID:-//eventon.com NONSGML v1.0//EN
CALSCALE:GREGORIAN
METHOD:PUBLISH
BEGIN:VEVENT
UID:69ea699f5c364
DTSTAMP:20260423T184903Z
DTSTART:20240123
DTEND:20240124
LOCATION:
SUMMARY:ROCZNA SZKOŁA INTUITIVE HEALING z Leo Mross - pierwszy zjazd
DESCRIPTION:Więcej informacji o szkole https://deft-pioneer-574.ck.page/42
 78cebdea\nhttps://www.uzdrowisko.love/events/roczna-szkola-intuitive-healin
 g-z-leo-mross-pierwszy-zjazd/
URL:https://www.uzdrowisko.love/events/roczna-szkola-intuitive-healing-z-leo-mross-pierwszy-zjazd/
END:VEVENT
END:VCALENDAR