BEGIN:VCALENDAR
VERSION:2.0
PRODID:-//eventon.com NONSGML v1.0//EN
CALSCALE:GREGORIAN
METHOD:PUBLISH
BEGIN:VEVENT
UID:69e73d1953d05
DTSTAMP:20260421T090217Z
DTSTART:20240919T140000Z
DTEND:20240922T120000Z
LOCATION:
SUMMARY:Spotkanie ze zdrowiem - warsztaty z medycyną chińską
DESCRIPTION:Spotkajmy się w UZDRWOWISKU\,  przepięknym miejscu znajdując
 ym się w Parku Krajobrazowym Wysoczyzny Elbląskiej aby celebrować zdrowi
 e. Przez 4 dni skupimy się na sobie w holistycznym ujęciu ciała i ducha.
 Przyjazd tutaj może być motywacją aby rozpocząć zmianę zdrowotną w s
 woim życiu lub jako kontynuacja terapii już prowadzonej.W trakcie warszta
 tu każdy z[..]\nhttps://www.uzdrowisko.love/events/spotkanie-ze-zdrowiem-w
 arsztaty-z-medycyna-chinska/
URL:https://www.uzdrowisko.love/events/spotkanie-ze-zdrowiem-warsztaty-z-medycyna-chinska/
END:VEVENT
END:VCALENDAR