BEGIN:VCALENDAR
VERSION:2.0
PRODID:-//eventon.com NONSGML v1.0//EN
CALSCALE:GREGORIAN
METHOD:PUBLISH
BEGIN:VEVENT
UID:69eb7bdf96d4e
DTSTAMP:20260424T141911Z
DTSTART:20241020T090000Z
DTEND:20241020T140000Z
LOCATION:
SUMMARY:Dzień z Biodanzą - sztuka życia
DESCRIPTION:Dzień z Biodanzą &#8211; sztuka życia. Podczas tej niedzieli
  będziemy kontemplować tańcem czego potrzebujemy do szczęśliwego życi
 a. Będziemy lądować w prostocie \,  akceptacji\,  zaufaniu\,  w byciu\, 
  w czuciu\,  dostrzegając jak niewiele jest potrzeba by życie nabrało sm
 aku i pokazało swoje piękno. Czasem wystarczy się zatrzymać i głęboko
  poczuć siebie oraz[..]\nhttps://www.uzdrowisko.love/events/dzien-z-biodan
 za-sztuka-zycia/
URL:https://www.uzdrowisko.love/events/dzien-z-biodanza-sztuka-zycia/
END:VEVENT
END:VCALENDAR