BEGIN:VCALENDAR
VERSION:2.0
PRODID:-//eventon.com NONSGML v1.0//EN
CALSCALE:GREGORIAN
METHOD:PUBLISH
BEGIN:VEVENT
UID:69eb685eb1142
DTSTAMP:20260424T125558Z
DTSTART:20241227T170000Z
DTEND:20241229T143000Z
LOCATION:
SUMMARY:Warsztaty Biodanzy - Radość życia - zapraszamy NOWE!
DESCRIPTION:WARSZTATY BIODANZY Radość życia &#8211; zapraszamy NOWE ! Za
 praszam Cię na weekend pełen radości\,  świętowania\,  przyjemności\,
   czułej bliskości\,  tańca i odpoczynku\,  a wszystko to w przepięknym
 \,  magicznym miejscu Uzdrowisko koło Elbląga. Będziemy celebrować cudo
 wny czas zatrzymania pomiędzy starym a nowym\,  między świętami a sylwe
 strem. Razem stworzymy energię wyjątkowości\,  lekkości\,  społecznoś
 ci[..]\nhttps://www.uzdrowisko.love/events/warsztaty-biodanzy-radosc-zycia-
 zapraszamy-nowe/
URL:https://www.uzdrowisko.love/events/warsztaty-biodanzy-radosc-zycia-zapraszamy-nowe/
END:VEVENT
END:VCALENDAR