BEGIN:VCALENDAR
VERSION:2.0
PRODID:-//eventon.com NONSGML v1.0//EN
CALSCALE:GREGORIAN
METHOD:PUBLISH
BEGIN:VEVENT
UID:69eb574d1996a
DTSTAMP:20260424T114309Z
DTSTART:20241018T150000Z
DTEND:20241020T130000Z
LOCATION:
SUMMARY:MAGICZNA PODRÃ“Å» DO KRAINY CZAKR. JOGA I SIEDEM CENTRÃ“W MOCY
DESCRIPTION:Czakry to strefy podwyÅ¼szonej energii â€“ centra transformacji
 . OdbierajÄ… energiÄ™\,  przetwarzajÄ… energiÄ™ i wysyÅ‚ajÄ… energiÄ™. SÄ… 
 kanaÅ‚ami komunikacji na poziomie energetycznym .To klucz do zdrowia i harm
 onii.Ich siÅ‚a wpÅ‚ywa na komÃ³rki i caÅ‚e ukÅ‚ady â€“ nerwowy\,  hormonaln
 y (kaÅ¼da czakra odpowiada innemu gruczoÅ‚owi dokrewnemu) i inne. MajÄ… wpÅ
 ‚yw na nasze myÅ›li\, [..]\nhttps://www.uzdrowisko.love/events/magiczna-pod
 roz-do-krainy-czakr-joga-i-siedem-centrow-mocy/
URL:https://www.uzdrowisko.love/events/magiczna-podroz-do-krainy-czakr-joga-i-siedem-centrow-mocy/
END:VEVENT
END:VCALENDAR