BEGIN:VCALENDAR
VERSION:2.0
PRODID:-//eventon.com NONSGML v1.0//EN
CALSCALE:GREGORIAN
METHOD:PUBLISH
BEGIN:VEVENT
UID:69eb456fe9203
DTSTAMP:20260424T102655Z
DTSTART:20241206T170000Z
DTEND:20241208T140000Z
LOCATION:
SUMMARY:Grudniowe zasilenie. Wyjazd z jogÄ… i warsztatami regeneracyjnymi
DESCRIPTION:Grudniowe zasilenie â€“ Wyjazd z JogÄ… i warsztatami regeneracy
 jnymi. Zapraszamy Was serdecznie na weekend w piÄ™knym Uzdrowisku\,  gdzie 
 bÄ™dziemy zasilaÄ‡ siÄ™ wielopoziomowo. JeÅ›li czujesz potrzebÄ™ wytchnieni
 a od intensywnoÅ›ci codziennych wyzwaÅ„\,  pragniesz odpoczÄ…Ä‡ i wzmocniÄ‡
  swoje zasoby oraz odÅ¼ywiÄ‡ caÅ‚Ä… TwojÄ… istotÄ™ &#8211; razem w grupieâ€
 ¦to czekamy na Ciebie z radoÅ›ciÄ….[..]\nhttps://www.uzdrowisko.love/events
 /grudniowe-zasilenie-wyjazd-z-joga-i-warsztatami-regeneracyjnymi/
URL:https://www.uzdrowisko.love/events/grudniowe-zasilenie-wyjazd-z-joga-i-warsztatami-regeneracyjnymi/
END:VEVENT
END:VCALENDAR