BEGIN:VCALENDAR
VERSION:2.0
PRODID:-//eventon.com NONSGML v1.0//EN
CALSCALE:GREGORIAN
METHOD:PUBLISH
BEGIN:VEVENT
UID:69e72c8e967c5
DTSTAMP:20260421T075142Z
DTSTART:20260702
DTEND:20260703
LOCATION:
SUMMARY:Letnie ożywienie 2026
DESCRIPTION:Zapraszamy Was na wspaniałe wakacje z technikami Pilates i Gyr
 okinesis! Fuzja tych dwóch fantastycznych metod w kompilacji ze świeżoś
 cią nadmorskiego powietrza przyniesie nam doskonałą regenerację! Progra
 m tego 5 dniowego wyjątkowego\,  aktywnego wypoczynku obejmuje:codzienne t
 reningi ze wspaniałymi technikami Gyrokinesis® i Pilates dostosowane do m
 ożliwości każdej osobyporanne ćwiczenia oddechowe\,  relaksujące\,  ro
 zciągające i[..]\nhttps://www.uzdrowisko.love/events/letnie-ozywienie-202
 6/
URL:https://www.uzdrowisko.love/events/letnie-ozywienie-2026/
END:VEVENT
END:VCALENDAR